BEGIN:VCALENDAR
VERSION:2.0
PRODID:-//Lake Lavon Camp - ECPv6.15.20//NONSGML v1.0//EN
CALSCALE:GREGORIAN
METHOD:PUBLISH
X-ORIGINAL-URL:https://lakelavoncamp.com
X-WR-CALDESC:Events for Lake Lavon Camp
REFRESH-INTERVAL;VALUE=DURATION:PT1H
X-Robots-Tag:noindex
X-PUBLISHED-TTL:PT1H
BEGIN:VTIMEZONE
TZID:UTC
BEGIN:STANDARD
TZOFFSETFROM:+0000
TZOFFSETTO:+0000
TZNAME:UTC
DTSTART:20250101T000000
END:STANDARD
END:VTIMEZONE
BEGIN:VEVENT
DTSTART;VALUE=DATE:20260130
DTEND;VALUE=DATE:20260201
DTSTAMP:20260423T221907
CREATED:20250526T191529Z
LAST-MODIFIED:20260116T172444Z
UID:2746-1769731200-1769903999@lakelavoncamp.com
SUMMARY:Women's Conference 2026
DESCRIPTION:Register Here
URL:https://lakelavoncamp.com/event/womens-conference-2026/
LOCATION:Lake Lavon Camp and Conference Center\, 8050 CR 735\, Princeton\, TX\, 75407\, United States
CATEGORIES:Events
ATTACH;FMTTYPE=image/png:https://lakelavoncamp.com/wp-content/uploads/2025/05/Save-The-Dates.png
END:VEVENT
BEGIN:VEVENT
DTSTART;TZID=UTC:20260220T180000
DTEND;TZID=UTC:20260222T100000
DTSTAMP:20260423T221907
CREATED:20250806T195914Z
LAST-MODIFIED:20250806T195914Z
UID:2770-1771610400-1771754400@lakelavoncamp.com
SUMMARY:Re//Treat D-Now Weekend
DESCRIPTION:
URL:https://lakelavoncamp.com/event/re-treat-d-now-weekend/
LOCATION:Lake Lavon Camp and Conference Center\, 8050 CR 735\, Princeton\, TX\, 75407\, United States
ATTACH;FMTTYPE=image/png:https://lakelavoncamp.com/wp-content/uploads/2025/08/4.png
END:VEVENT
BEGIN:VEVENT
DTSTART;VALUE=DATE:20260313
DTEND;VALUE=DATE:20260315
DTSTAMP:20260423T221907
CREATED:20250526T191304Z
LAST-MODIFIED:20250526T192948Z
UID:2743-1773360000-1773532799@lakelavoncamp.com
SUMMARY:Faith & Foundations 2026
DESCRIPTION:
URL:https://lakelavoncamp.com/event/faith-foundations-2026/
LOCATION:Lake Lavon Camp and Conference Center\, 8050 CR 735\, Princeton\, TX\, 75407\, United States
CATEGORIES:Events
ATTACH;FMTTYPE=image/png:https://lakelavoncamp.com/wp-content/uploads/2025/05/Faith-Foundations-2026.png
END:VEVENT
BEGIN:VEVENT
DTSTART;TZID=UTC:20260402T193000
DTEND;TZID=UTC:20260404T110000
DTSTAMP:20260423T221907
CREATED:20250526T191614Z
LAST-MODIFIED:20250806T194614Z
UID:2738-1775158200-1775300400@lakelavoncamp.com
SUMMARY:Easter Youth Retreat 2026
DESCRIPTION:
URL:https://lakelavoncamp.com/event/easter-youth-retreat-2026/
LOCATION:Lake Lavon Camp and Conference Center\, 8050 CR 735\, Princeton\, TX\, 75407\, United States
CATEGORIES:Events
ATTACH;FMTTYPE=image/png:https://lakelavoncamp.com/wp-content/uploads/2025/05/3-2.png
END:VEVENT
END:VCALENDAR